BEGIN:VCALENDAR
VERSION:2.0
PRODID:-//Cyndy Gusler and The Vine Ministries in Cypress, TX - ECPv6.15.20//NONSGML v1.0//EN
CALSCALE:GREGORIAN
METHOD:PUBLISH
X-ORIGINAL-URL:https://fromthevineministries.com
X-WR-CALDESC:Events for Cyndy Gusler and The Vine Ministries in Cypress, TX
REFRESH-INTERVAL;VALUE=DURATION:PT1H
X-Robots-Tag:noindex
X-PUBLISHED-TTL:PT1H
BEGIN:VTIMEZONE
TZID:America/Chicago
BEGIN:DAYLIGHT
TZOFFSETFROM:-0600
TZOFFSETTO:-0500
TZNAME:CDT
DTSTART:20210314T080000
END:DAYLIGHT
BEGIN:STANDARD
TZOFFSETFROM:-0500
TZOFFSETTO:-0600
TZNAME:CST
DTSTART:20211107T070000
END:STANDARD
BEGIN:DAYLIGHT
TZOFFSETFROM:-0600
TZOFFSETTO:-0500
TZNAME:CDT
DTSTART:20220313T080000
END:DAYLIGHT
BEGIN:STANDARD
TZOFFSETFROM:-0500
TZOFFSETTO:-0600
TZNAME:CST
DTSTART:20221106T070000
END:STANDARD
BEGIN:DAYLIGHT
TZOFFSETFROM:-0600
TZOFFSETTO:-0500
TZNAME:CDT
DTSTART:20230312T080000
END:DAYLIGHT
BEGIN:STANDARD
TZOFFSETFROM:-0500
TZOFFSETTO:-0600
TZNAME:CST
DTSTART:20231105T070000
END:STANDARD
END:VTIMEZONE
BEGIN:VEVENT
DTSTART;TZID=America/Chicago:20221018T100000
DTEND;TZID=America/Chicago:20221018T110000
DTSTAMP:20260422T080730
CREATED:20221015T174947Z
LAST-MODIFIED:20221015T174947Z
UID:14688-1666087200-1666090800@fromthevineministries.com
SUMMARY:Compassionate Crowns
DESCRIPTION:October Session: Legal – documents needed to prepare your estate plan – documents your adult children so that parents can help them medically and financially \nThis is a series of sessions – each stand-alone – helping you prepare to die and/or process grief.  Each session will feature a topic with essential “to do” lists\, showcasing items you may not even realize you need to handle. Meetings will be led by local business professionals in areas such as legal\, financial\, funeral homes\, church\, hospitals\, grief counseling\, and more.  Come with your questions and experience a safe environment to share feelings and receive encouragement. \n“When the Lord saw her\, His heart overflowed with compassion.” Luke 7:13 \n“Blessed is the one who perseveres under trial because\, having stood the test\, that person will receive the crown of life that the Lord has promised to those who love Him.” James 1:12
URL:https://fromthevineministries.com/event/compassionate-crowns/
LOCATION:The Vineyard\, 19125 Mueschke Rd\, Cypress\, TX\, 77433\, United States
CATEGORIES:Coffee and Conversations
ORGANIZER;CN="Cyndy Gusler":MAILTO:events@fromthevineministries.com
END:VEVENT
BEGIN:VEVENT
DTSTART;TZID=America/Chicago:20220611T093000
DTEND;TZID=America/Chicago:20220611T113000
DTSTAMP:20260422T080730
CREATED:20220530T142855Z
LAST-MODIFIED:20220530T142855Z
UID:14683-1654939800-1654947000@fromthevineministries.com
SUMMARY:Monthly Book/ Movie Club
DESCRIPTION:June’s book: \n \n\n* 2nd Saturday each month\, list posted on FTVM website each month \n * Coffee bar and muffins available \n* Discussion\, fellowship and prayer each session \n\nJuly 9 – MOVIE:  Same Kind of Different As Me \n\nw/ Greg Kinnear\, Renee Zellweger and Djimon Hounsou\n\n  \nAug 13 – BOOK:  I Thought You Said This Would Work    by Ann Garvin \n\nwomen reconnect after separation\, road trip\n\n  \nSept 10 – MOVIE:  Seven Days in Utopia \n\nw/ Robert Duvall\, Lucas Black and Melissa Leo\n\n  \nOct 8 – BOOK:  This Tender Land   by William Kent Kruger \n\n four orphans travel the Mississippi River in Great Depression\n\n  \nNov 12 – MOVIE:  Fireproof \n\nw/ Kirk Cameron\, Erin Bethea\, Alex Kendrick\, and Ken Bevel\n\n  \nDec 10 – BOOK:  Firefly Lane   by Kristen Hannah \n\nnovel of love\, loss\, and the magic of friendship\, 1970’s – present\n\n  \nJan 14 – MOVIE:Confessions of a Prodigal Son \n\nw/ Kevin Sorbo\, Nathan Clarkson and Rachel Lee\n\n  \nFeb 11 – BOOK:  Book of Lost Names   by Kristin Harmel \n\nWWII\, woman helping children flee Nazis\n\n  \nMar 11 – MOVIE:  War Room \n\nW/ Priscilla Shirer\, Karen Abercrombie and TC Stallings\n\n  \nApr 8 – BOOK:  Have You Seen Luis Velez   by Catherine Ryan Hyde \n\nAn uplifting story of humanity\, friendship and kindness\n\n  \nMay 13 – MOVIE:  To Joey\, With Love \n\nw/ Joey and Rory Feek
URL:https://fromthevineministries.com/event/monthly-book-movie-club-3/
LOCATION:The Vineyard\, 19125 Mueschke Rd\, Cypress\, TX\, 77433\, United States
CATEGORIES:Coffee and Conversations
ORGANIZER;CN="Cyndy Gusler":MAILTO:events@fromthevineministries.com
END:VEVENT
BEGIN:VEVENT
DTSTART;TZID=America/Chicago:20220611T093000
DTEND;TZID=America/Chicago:20220611T113000
DTSTAMP:20260422T080730
CREATED:20220530T142855Z
LAST-MODIFIED:20230906T191036Z
UID:5384-1654939800-1654947000@fromthevineministries.com
SUMMARY:Monthly Book/ Movie Club
DESCRIPTION:June’s book: \n \n\n* 2nd Saturday each month\, list posted on FTVM website each month \n * Coffee bar and muffins available \n* Discussion\, fellowship and prayer each session \n\nJuly 9 – MOVIE:  Same Kind of Different As Me \n\nw/ Greg Kinnear\, Renee Zellweger and Djimon Hounsou\n\n  \nAug 13 – BOOK:  I Thought You Said This Would Work    by Ann Garvin \n\nwomen reconnect after separation\, road trip\n\n  \nSept 10 – MOVIE:  Seven Days in Utopia \n\nw/ Robert Duvall\, Lucas Black and Melissa Leo\n\n  \nOct 8 – BOOK:  This Tender Land   by William Kent Kruger \n\n four orphans travel the Mississippi River in Great Depression\n\n  \nNov 12 – MOVIE:  Fireproof \n\nw/ Kirk Cameron\, Erin Bethea\, Alex Kendrick\, and Ken Bevel\n\n  \nDec 10 – BOOK:  Firefly Lane   by Kristen Hannah \n\nnovel of love\, loss\, and the magic of friendship\, 1970’s – present\n\n  \nJan 14 – MOVIE:Confessions of a Prodigal Son \n\nw/ Kevin Sorbo\, Nathan Clarkson and Rachel Lee\n\n  \nFeb 11 – BOOK:  Book of Lost Names   by Kristin Harmel \n\nWWII\, woman helping children flee Nazis\n\n  \nMar 11 – MOVIE:  War Room \n\nW/ Priscilla Shirer\, Karen Abercrombie and TC Stallings\n\n  \nApr 8 – BOOK:  Have You Seen Luis Velez   by Catherine Ryan Hyde \n\nAn uplifting story of humanity\, friendship and kindness\n\n  \nMay 13 – MOVIE:  To Joey\, With Love \n\nw/ Joey and Rory Feek
URL:https://fromthevineministries.com/event/monthly-book-movie-club/
LOCATION:The Vineyard\, 19125 Mueschke Rd\, Cypress\, TX\, 77433\, United States
CATEGORIES:Coffee and Conversations
ORGANIZER;CN="Cyndy Gusler":MAILTO:events@fromthevineministries.com
END:VEVENT
END:VCALENDAR